BEGIN:VCALENDAR
VERSION:2.0
PRODID:-//Squarespace Inc/Squarespace 6//v6//EN
BEGIN:VEVENT
UID:5c0610a770a6adf59bb9d5d0@squarespace.com
DTSTAMP:20190320T003606Z
DTSTART:20190428T233000Z
DTEND:20190501T013000Z
SUMMARY:Repotted Retreat April
GEO:-36.761287;175.498128
LOCATION:Mana Retreat\, Coromandel
END:VEVENT
END:VCALENDAR
