BEGIN:VCALENDAR
VERSION:2.0
PRODID:-//Squarespace Inc/Squarespace 6//v6//EN
BEGIN:VEVENT
UID:5b41de948a922d4f1dba0f11@squarespace.com
DTSTAMP:20181204T052911Z
DTSTART:20181128T223000Z
DTEND:20181201T003000Z
SUMMARY:Repotted Retreat
GEO:-36.761287;175.498128
LOCATION:Mana Retreat\, Coromandel
END:VEVENT
END:VCALENDAR
