BEGIN:VCALENDAR
VERSION:2.0
PRODID:-//Squarespace Inc/Squarespace 6//v6//EN
BEGIN:VEVENT
UID:5ab9ba0d88251bc5b37816bc@squarespace.com
DTSTAMP:20180327T033123Z
DTSTART:20180411T073000Z
DTEND:20180411T093000Z
SUMMARY:The Lickable Third: Wanaka
GEO:-44.703181;169.132098
LOCATION:The Edgewater\, Wanaka
END:VEVENT
END:VCALENDAR
