BEGIN:VCALENDAR
VERSION:2.0
PRODID:-//Squarespace Inc/Squarespace 6//v6//EN
BEGIN:VEVENT
UID:5a7e3b89f9619ab1a9099291@squarespace.com
DTSTAMP:20180210T002633Z
DTSTART:20180307T063000Z
DTEND:20180307T083000Z
SUMMARY:The Lickable Third: Akld
GEO:-36.888537;174.79919
LOCATION:Novotel Auckland Ellerslie
END:VEVENT
END:VCALENDAR
