BEGIN:VCALENDAR
VERSION:2.0
PRODID:-//Squarespace Inc/Squarespace 6//v6//EN
BEGIN:VEVENT
UID:5a84a45c9140b7746b29ee08@squarespace.com
DTSTAMP:20180214T210544Z
DTSTART:20180313T063000Z
DTEND:20180313T083000Z
SUMMARY:The Lickable Third: Tga
GEO:-37.687797;176.16513
LOCATION:Trinity Wharf\, Tauranga
END:VEVENT
END:VCALENDAR
