BEGIN:VCALENDAR
VERSION:2.0
PRODID:-//Squarespace Inc/Squarespace 6//v6//EN
BEGIN:VEVENT
UID:5a84a4c20d9297891ab95131@squarespace.com
DTSTAMP:20180214T210917Z
DTSTART:20180315T063000Z
DTEND:20180315T083000Z
SUMMARY:The Lickable Third: N/Plym
GEO:-39.058492;174.072364
LOCATION:The Mayfair\, 69 Devon Street West\, New Plymouth\, Taranaki\, 431
 0\, New Zealand
END:VEVENT
END:VCALENDAR
