BEGIN:VCALENDAR
VERSION:2.0
PRODID:-//Squarespace Inc/Squarespace 6//v6//EN
BEGIN:VEVENT
UID:5a9c4ff2f9619a449862f0e2@squarespace.com
DTSTAMP:20180305T030030Z
DTSTART:20180314T063000Z
DTEND:20180314T083000Z
SUMMARY:The Lickable Third: Ham
GEO:-39.075543;174.04846
LOCATION:Claudelands\, Hamilton\, New Zealand
END:VEVENT
END:VCALENDAR
