BEGIN:VCALENDAR
VERSION:2.0
PRODID:-//Squarespace Inc/Squarespace 6//v6//EN
BEGIN:VEVENT
UID:5ae29e0eaa4a99e3aac4db81@squarespace.com
DTSTAMP:20180429T210502Z
DTSTART:20180626T073000Z
DTEND:20180626T093000Z
SUMMARY:The Lickable Third: Napier
GEO:-39.492844;176.912018
LOCATION:Art Deco Masonic Hotel\, Napier
END:VEVENT
END:VCALENDAR
