BEGIN:VCALENDAR
VERSION:2.0
PRODID:-//Squarespace Inc/Squarespace 6//v6//EN
BEGIN:VEVENT
UID:5ae6339903ce64d372e390de@squarespace.com
DTSTAMP:20180429T210713Z
DTSTART:20180702T073000Z
DTEND:20180702T093000Z
SUMMARY:The Lickable Third: Nelson
GEO:-39.492844;176.912018
LOCATION:Hotel Grand Mecure\, Nelson
END:VEVENT
END:VCALENDAR
