BEGIN:VCALENDAR
VERSION:2.0
PRODID:-//Squarespace Inc/Squarespace 6//v6//EN
BEGIN:VEVENT
UID:5ae6340c88251bd2b3e8b0d7@squarespace.com
DTSTAMP:20180429T210831Z
DTSTART:20180703T073000Z
DTEND:20180703T093000Z
SUMMARY:The Lickable Third: Blenheim
GEO:-41.513442;173.96125
LOCATION:Marlborough Convention Centre\, Blenheim
END:VEVENT
END:VCALENDAR
