BEGIN:VCALENDAR
VERSION:2.0
PRODID:-//Squarespace Inc/Squarespace 6//v6//EN
BEGIN:VEVENT
UID:58fc46bdd2b8575e5ac74600@squarespace.com
DTSTAMP:20180708T095059Z
DTSTART:20181110T090000Z
DTEND:20181117T180000Z
SUMMARY:China Shopping Tour - SOLD OUT
GEO:31.230416;121.473701
LOCATION:Shanghai
END:VEVENT
END:VCALENDAR
